Workbook

Sheet Összesítő
A1: Költségvetési Főösszesítő
A2: TISZAALPÁR ORVOSI RENDELŐ
A3: Felújítási Munkáihoz
A7: Munkanem megnevezése | C7: Összesen: (nettó HUF) | D7: 27 % ÁFA | E7: Összesen: (bruttó HUF)
A8: Napkollektoros rendszer | C8: ='Napkollektoros rendszer'!F21 -> 0 | D8: =C8*0.27 -> 0 | E8: =C8+D8 -> 0
A9: Víz szerelés | C9: ='Víz szerelés'!F22 -> 0 | D9: =C9*0.27 -> 0 | E9: =C9+D9 -> 0
A10: Fűtés szerelés | C10: ='Fűtés szerelés'!F50 -> 0 | D10: =C10*0.27 -> 0 | E10: =C10+D10 -> 0
A11: Ablak csere munkái | C11: ='Ablakok cseréje'!F18 -> 0 | D11: =C11*0.27 -> 0 | E11: =C11+D11 -> 0
A12: Külső hőszigetelés munkái | C12: ='Külső hőszigetelés'!F17 -> 0 | D12: =C12*0.27 -> 0 | E12: =C12+D12 -> 0
A13: Munkák összesen: | C13: =SUM(C8:C12) -> 0 | E13: =SUM(E8:E12) -> 0

Sheet Napkollektoros rendszer
A1: No. | B1: Szöveg | C1: Mennyiség | D1: Mennyiségi egység | E1: Egységár (nettó HUF) | F1: Összesen (nettó HUF)
A2: 1 | B2: Áttörés helyreállítással, 0,10 m2/db méretig, felmenő téglafalban 38 cm vastagságig | C2: 12 | D2: db | E2: 0 | F2: =C2*E2 -> 0
A3: 2 | B3: vasbeton födémben 25 cm vastagságig | C3: 12 | D3: db | E3: 0 | F3: =C3*E3 -> 0
A4: 3 | B4: Tetőátvezetés készítése, helyreállítással | C4: 6 | D4: db | E4: 0 | F4: =C4*E4 -> 0
A5: 4 | B5: Szolár rendszer használati melegvíz előállítására, a következő tartozékokkal: függőleges elrendezésű síkkollektorokkal, ferdetetőre szerelhető egységgel cseréptetőhöz, Vitosolic-100 szolár rendszer szabályozóval, 25 literes tágulási tartállyal (6 bar), szolár tágulási tartály vezetékkel, 25 liter Tyfocor-LS szolár folyadékkal, kézi töltőszivattyúval, Glykomat fagyvédelmi ellenőrzővel, SP1 túlfeszültség védelemmel, LA1 légtelenítő egységgel, ferdetetőre felszerelve, és a szereléshez szükséges egyéb anyagokkal. VIESSMANN Vitosol 200-F SV2A típusú, síkkollektorral, 2 db kollektorral | C5: 3 | D5: db | E5: 0 | F5: =C5*E5 -> 0
A6: 5 | B6: Solár tároló használati melegvíz előállítására, beépített szolár hőcserélővel, nagy hatásfokú hőszigetelő köpennyel, magnéziumanóddal, Buderus Thermoglasur korrózióvédelemmel, állítható magasságú lábakkal, felszerelve és bekötve, VIESSMANN Vitocell 100-B típusú, 300 literes | C6: 3 | D6: db | E6: 0 | F6: =C6*E6 -> 0
A7: 6 | B7: Változó nyomású zárt tágulási tartály a DIN 1988 alá nem tartozó ivóvízrendszerek, valamint tűzivíz-, iparivíz- és padlófűtési rendszerek részére, korrózióvédelemmel ellátva, átöblítő és elzáró szerelvények nélkül, 60 litertől cserélhető zsákmembránnal, 4,0 bar légoldali előfeszítéssel, kék színben, felszerelve, REFLEX "DE" típusú, 10 bar/70°C DE 18 j. 18 literes RX 7303000 | C7: 3 | D7: db | E7: 0 | F7: =C7*E7 -> 0
A8: 7 | B8: Rugóterhelésű biztonsági szelep, 3/4˝, ple = 6 bar | C8: 3 | D8: db | E8: 0 | F8: =C8*E8 -> 0
A9: 8 | B9: Ötvözetlen, kívül horganyzott szénacél csővezeték, préskötéses csatlakozásokkal, zárt fűtési, hűtési és cirkulációs hálózat, száraz sűrített levegős csőhálózat és fűtőolaj hálózat kiépítésére, préskötéses idomokkal és tartószerkezettel, szabadon, horonyba, vagy padlócsatornába szerelve, szakaszos nyomáspróbával (a szerelőkőműves munkák nélkül), GEBERIT MAPRESS (Mapress C-Stahl) típusú, átm. 18,0 x 1,2 mm 29253 | C9: 36 | D9: m | E9: 0 | F9: =C9*E9 -> 0
A10: 9 | B10: Épületgépészeti és ipari csővezeték szigetelése szintetikus gumi, szintetikus kaucsuk, polietilén vagy poliuretán anyagú csőhéjjal, illesztések, hézagok, csővégek lezárásával, HT/ARMAFLEX típusú, csőhéj, anyaga: szintetikus gumi, 19,0 mm vastag 18 mm átm. csővezetékre HT 19-018 | C10: 36 | D10: m | E10: 0 | F10: =C10*E10 -> 0
A11: 10 | B11: Hőálló elzáró szerelvények | C11: 3 | D11: klt | E11: 0 | F11: =C11*E11 -> 0
A12: 11 | B12: Elzáró-szabályozó szerelvények, visszacsapó szelepek | C12: 3 | D12: klt | E12: 0 | F12: =C12*E12 -> 0
A13: 12 | B13: DRAIN BACK rendszer kialakítása | C13: 3 | D13: klt | E13: 0 | F13: =C13*E13 -> 0
... A20: 19 | B20: kezelésre vonatkozó kioktatás | C20: 3 | D20: klt | E20: 0 | F20: =C20*E20 -> 0
B21: Munkanem összesen: | F21: =SUM(F2:F20) -> 0

Sheet Víz szerelés
A1: No. | B1: Szöveg | C1: Mennyiség | D1: Mennyiségi egység | E1: Egységár (nettó HUF) | F1: Összesen (nettó HUF)
A2: 1 | B2: Áttörés helyreállítással, 0,10 m2/db méretig, felmenő téglafalban 38 cm vastagságig | C2: 6 | D2: db | E2: 0 | F2: =C2*E2 -> 0
A3: 2 | B3: vasbeton födémben 25 cm vastagságig | C3: 6 | D3: db | E3: 0 | F3: =C3*E3 -> 0
A4: 3 | B4: Melegvíztároló leszerelése, szerelvényekkel együtt 3150 literig | C4: 3 | D4: db | E4: 0 | F4: =C4*E4 -> 0
A5: 4 | B5: Univerzális alumíniumbetétes műanyag csővezeték, fűtési és hideg-melegvizes rendszerekhez, a csővégek préskötéses kapcsolásával, szakaszos nyomáspróbával, szabadon, horonyba vagy padlócsatornába szerelve, (a szerelőkőműves munkák külön tételben történő elszámolásával), csőidomok és tartók árával EN ISO 21003 szerint, PIPELIFE RADOPRESS típusú, PEX-AL-PEX (2,4,5 csőosztály) Anyaga: polipropilén alumíniumbetéttel, tekercsben szállítva 26 x 3,0 mm RP26x3-100 | C5: 22 | D5: m | E5: 0 | F5: =C5*E5 -> 0
A6: 5 | B6: 20 x 2,0 mm, 0,25 mm Al RP20x2-100 | C6: 20 | D6: m | E6: 0 | F6: =C6*E6 -> 0
A7: 6 | B7: Épületgépészeti és ipari csővezeték szigetelése szintetikus gumi, szintetikus kaucsuk, polietilén vagy poliuretán anyagú csőhéjjal, illesztések, hézagok, csővégek lezárásával, POLIFOAM típusú, csőhéj, anyaga: polietilén hab, csupasz, könnyen éghető, 5 mm vastag 28 mm átm. csővezetékre 380020 | C7: 22 | D7: m | E7: 0 | F7: =C7*E7 -> 0
A8: 7 | B8: 22 mm átm. csővezetékre 380016 | C8: 20 | D8: m | E8: 0 | F8: =C8*E8 -> 0
A9: 8 | B9: Gázipari, víz-fűtés szerelési felhasználású gömbcsap, sárgarézből (kék fogantyúval), felszerelve, MOFÉM AHA típusú, belső menettel 3/4"-os 113-0018-00 | C9: 6 | D9: db | E9: 0 | F9: =C9*E9 -> 0
A10: 9 | B10: Visszacsapó szelep belső menettel, felszerelve, G 3/4" bm | C10: 1 | D10: db | E10: 0 | F10: =C10*E10 -> 0
A11: 10 | B11: HMV tároló vízoldali bekötése | C11: 3 | D11: klt | E11: 0 | F11: =C11*E11 -> 0
A12: 11 | B12: Nedvestengelyű, cirkulációs szivattyú, blokkolási áramot álló szinkronmotorral, használati melegvíz cirkulációs rendszerekben történő alkalmazására, menetes kivitelben, hollandis kötéskészletekkel, elektromotorokkal egybeépítve, csővezetékbe beépítve, WILO Star-Z NOVA típusú, Star-Z NOVA 4132760 | C12: 1 | D12: db | E12: 0 | F12: =C12*E12 -> 0
A13: 12 | B13: Termosztatikus HMV keverőszelep egység, felszerelve, 1" | C13: 3 | D13: db | E13: 0 | F13: =C13*E13 -> 0
... A21: 20 | B21: átadási eljárás lefolytatása | C21: 3 | D21: klt | E21: 0 | F21: =C21*E21 -> 0
B22: Munkanem összesen: | F22: =SUM(F2:F21) -> 0

Sheet Fűtés szerelés
A1: No. | B1: Szöveg | C1: Mennyiség | D1: Mennyiségi egység | E1: Egységár (nettó HUF) | F1: Összesen (nettó HUF)
A2: 1 | B2: Fűtési rendszer leürítése a munkálatok megkezdése előtt, majd a munkák befejezése után a rendszer vízzel való feltöltése és légtelenítése, családi ház esetén 1 szintes épület | C2: 3 | D2: db | E2: 0 | F2: =C2*E2 -> 0
A3: 2 | B3: Szabadon, vagy padlócsatornába szerelt horganyzott, vagy fekete acélcső bontása,tartószerkezetekről 2"-ig, vagy DN 50-ig | C3: 318 | D3: m | E3: 0 | F3: =C3*E3 -> 0
A4: 3 | B4: Menetes szerelvény leszerelése 2 " átmérőig | C4: 94 | D4: db | E4: 0 | F4: =C4*E4 -> 0
A5: 4 | B5: Gázüzemű lakásfűtő berendezés leszerelése | C5: 3 | D5: db | E5: 0 | F5: =C5*E5 -> 0
A6: 5 | B6: Tágulási vagy táptartály leszerelése 1000 literig | C6: 3 | D6: db | E6: 0 | F6: =C6*E6 -> 0
A7: 6 | B7: Fűtőtest leszerelése, tagos radiátor 11-20 tag között | C7: 40 | D7: db | E7: 0 | F7: =C7*E7 -> 0
A8: 7 | B8: Kapcsolódó gázszerelési munkák, tervezéssel kompletten | C8: 3 | D8: klt | E8: 0 | F8: =C8*E8 -> 0
A9: 8 | B9: Áttörés helyreállítással, 0,10 m2/db méretig, felmenő téglafalban 38 cm vastagságig | C9: 22 | D9: db | E9: 0 | F9: =C9*E9 -> 0
A10: 9 | B10: Ötvözetlen, kívül horganyzott szénacél csővezeték, préskötéses csatlakozásokkal, zárt fűtési, hűtési és cirkulációs hálózat, száraz sűrített levegős csőhálózat és fűtőolaj hálózat kiépítésére, préskötéses idomokkal és tartószerkezettel, szabadon, horonyba, vagy padlócsatornába szerelve, szakaszos nyomáspróbával (a szerelőkőműves munkák nélkül), GEBERIT MAPRESS (Mapress C-Stahl) típusú, átm. 18,0 x 1,2 mm 29253 | C10: 238 | D10: m | E10: 0 | F10: =C10*E10 -> 0
A11: 10 | B11: átm. 22,0 x 1,5 mm 29254 | C11: 108 | D11: m | E11: 0 | F11: =C11*E11 -> 0
A12: 11 | B12: átm. 28,0 x 1,5 mm 29255 | C12: 84 | D12: m | E12: 0 | F12: =C12*E12 -> 0
A13: 12 | B13: átm. 35,0 x 1,5 mm 29256 | C13: 16 | D13: m | E13: 0 | F13: =C13*E13 -> 0
... A49: 48 | B49: kezelésre vonatkozó kioktatás | C49: 3 | D49: klt | E49: 0 | F49: =C49*E49 -> 0
B50: Munkanem összesen: | F50: =SUM(F2:F49) -> 0

Sheet Ablakok cseréje
A1: No. | B1: Szöveg | C1: Mennyiség | D1: Mennyiségi egység | E1: Egységár (nettó HUF) | F1: Összesen (nettó HUF)
A2: 1 | B2: Fa nyílászáró szerkezetek bontása 0- 6,00 m kerületig | C2: 50 | D2: db | E2: 0 | F2: =C2*E2 -> 0
A3: 2 | B3: Ablakok bontása utáni faljavítások | C3: 50 | D3: klt | E3: 0 | F3: =C3*E3 -> 0
A4: 3 | B4: Műanyag ablak, ütés- és időjárásálló kemény PVC alapanyagú profillal, horganyzott acélbetét merevítéssel, ROTO vasalattal, falszerkezetbe beépítve, párkánnyal, kompletten bukó-nyíló jobbos 900x1500 mm | C4: 4 | D4: db | E4: 0 | F4: =C4*E4 -> 0
A5: 4 | B5: középenfelnyíló-bukónyíló jobbos, 1200x1500 mm | C5: 2 | D5: db | E5: 0 | F5: =C5*E5 -> 0
A6: 5 | B6: tokosztott szerkezet,felül fix 30cm, alatta középenfelnyíló-bukónyíló jobbos 1200x1500 mm | C6: 4 | D6: db | E6: 0 | F6: =C6*E6 -> 0
A7: 6 | B7: bukó 1200x450 mm | C7: 7 | D7: db | E7: 0 | F7: =C7*E7 -> 0
A8: 7 | B8: bukónyíló jobbos 900x600 mm | C8: 2 | D8: db | E8: 0 | F8: =C8*E8 -> 0
A9: 8 | B9: bukónyíló jobbos 500x500 mm | C9: 8 | D9: db | E9: 0 | F9: =C9*E9 -> 0
A10: 9 | B10: kifelé nyíló bejárati ajtó balos, stadur, R4, 1000x2000 mm | C10: 1 | D10: db | E10: 0 | F10: =C10*E10 -> 0
A11: 10 | B11: kifelé nyíló bejárati ajtó jobbos,felül világító 25cm, szimetrikus 2000x2400 mm | C11: 1 | D11: db | E11: 0 | F11: =C11*E11 -> 0
A12: 11 | B12: fix szerkezet, borda 210 cm- nél, borda 100cm nél | C12: 1 | D12: db | E12: 0 | F12: =C12*E12 -> 0
A13: 12 | B13: bukónyíló jobbos 1100x1800 mm | C13: 4 | D13: db | E13: 0 | F13: =C13*E13 -> 0
... A17: 16 | B17: tokosztott szerkezet, felül fix 30 cm, alatta középenfelnyíló bukónyíló jobbos 1200x1600 mm | C17: 2 | D17: db | E17: 0 | F17: =C17*E17 -> 0
B18: Munkanem összesen: | F18: =SUM(F2:F17) -> 0

Sheet Külső hőszigetelés
A1: No. | B1: Szöveg | C1: Mennyiség | D1: Mennyiségi egység | E1: Egységár (nettó HUF) | F1: Összesen (nettó HUF)
A2: 1 | B2: Homlokzati keretállványok, fém keretvázból, szintenkénti pallóterítéssel, korláttal, lábdeszkával, 0,75-1,20 m padlószélességgel, munkapadló távolság 2,50 m, KRAUSE Stabilo homlokzati keretállvány 0,75 m padlószélességgel, 9,00 m munkapadló magasságig, építés- bontás, védőháló elhelyezés, állvány üzembehelyezés, érintés védelem, szállítás (60 nap) | C2: 518.06 | D2: m2 | E2: 0 | F2: =C2*E2 -> 0
A3: 2 | B3: Meglazult, sérült vakolat leverése homlokzatról 2 cm vastagságban összes felület 25 %-ban | C3: 129.52 | D3: m2 | E3: 0 | F3: =C3*E3 -> 0
A4: 3 | B4: Homlokzati felület vakolat javítása 2 cm vastagságban zsákos kiszerelésű anyagból összes felület 25 %-ban | C4: 129.52 | D4: m2 | E4: 0 | F4: =C4*E4 -> 0
A5: 4 | B5: Homlokzati hőszigetelés, tapaszba ágyazott üvegszövetháló-erősítéssel, egyenes él-képzésű, Rockwool Frontrock kőzetgyapot lemez 20 cm vastag hőszigetelő lapokkal, sík, függőleges falon, rögzítés külön tételbe kiírva | C5: 493.36 | D5: m2 | E5: 0 | F5: =C5*E5 -> 0
A6: 5 | B6: Homlokzati lábazat hőszigetelés, tapaszba ágyazott üvegszövetháló-erősítéssel, egyenes él-képzésű, Rockwool Frontrock kőzetgyapot lemez 17 cm vastag hőszigetelő lapokkal, sík, függőleges falon, rögzítés külön tételben kiírva | C6: 24.7 | D6: m2 | E6: 0 | F6: =C6*E6 -> 0
A7: 6 | B7: Szigetelések rögzítése; Hőszigetelő táblák pontszerű mechanikai rögzítése, homlokzaton, vázkerámia vagy pórusbeton aljzatszerkezethez, fém beütődübelekkel Baumit teleszkóp dűbel rögzítőelem, rögzítőelem, lapvastagság: 200 mm, 230 mm hosszú | C7: 3108.36 | D7: db | E7: 0 | F7: =C7*E7 -> 0
A8: 7 | B8: Kültéri vakolóprofilok elhelyezése, hőszigetelő rendszerhez, élekhez, sarokvédő sín üvegszövettel | C8: 105.46 | D8: fm | E8: 0 | F8: =C8*E8 -> 0
A9: 8 | B9: Kültéri vakolóprofilok elhelyezése, 20 cm vtg hőszigetelő rendszerhez, lábazati indító profilok egyenes falakhoz | C9: 59.77 | D9: fm | E9: 0 | F9: =C9*E9 -> 0
A10: 9 | B10: Homlokzati nemesvakolatok készítése vakolat alapozó felhordással, végleges struktúrával, kézi felhordással, előkevert szárazhabarcsból, függőleges felületen, kapart felülettel, 1,5 cm vastagságban, Schiefer 12 színben | C10: 493.36 | D10: m2 | E10: 0 | F10: =C10*E10 -> 0
A11: 10 | B11: Lábazati vakolatok; díszítő és lábazati műgyantás kötőanyagú vakolatréteg felhordása, kézi erővel, vödrös kiszerelésű anyagból Capastone A, dolomitbraun színben | C11: 24.7 | D11: m2 | E11: 0 | F11: =C11*E11 -> 0
A12: 11 | B12: Nyílászárószerkezetek beépítése után falfelület helyreállítás, káva javítás, vakolás kézi felhordással, zsákos kiszerelésű anyagból, felület glettelés, festés fehér színben | C12: 225.9 | D12: fm | E12: 0 | F12: =C12*E12 -> 0
A13: 12 | B13: Belső oldalfal felület helyreállítás (fűtőtest csere után), vakolat javítása, glettelés, festés fehér színben | C13: 66 | D13: m2 | E13: 0 | F13: =C13*E13 -> 0
... A16: 15 | B16: Munkahelyi depóniából építési törmelék konténerbe rakása, kézi erővel, konténeres elszállítással | C16: 7.5 | D16: m3 | E16: 0 | F16: =C16*E16 -> 0
B17: Munkanem összesen: | F17: =SUM(F2:F16) -> 0
