Workbook

Sheet Főösszesítő
A1: Árpád Fejedelem Általános Iskola 6066 Tiszaalpár, Alkotmány utca 14.
A2: FŐÖSSZESÍTŐ
A3: Szakág | B3: Munkanem megnevezése | C3: Anyag összege | D3: Díj összege
A4: ÉPÍTÉSZET
A5: KÜLSŐ HŐSZIGETELÉS ISKOLA | B5: HOMLOKZATI HŐSZIGETELÉS | C5: =+'Külső hőszigetelés'!I4 -> 0 | D5: =+'Külső hőszigetelés'!J4 -> 0
B6: ÁLLVÁNYZAT | C6: =+'Külső hőszigetelés'!I8 -> 0 | D6: =+'Külső hőszigetelés'!J8 -> 0
B7: FÖDÉMSZIGETELÉS | C7: =+'Külső hőszigetelés'!I10 -> 0 | D7: =+'Külső hőszigetelés'!J10 -> 0
B8: FÖDÉMSZIGETELÉS JÁRULÉKOS KÖLTSÉGE | C8: =+'Külső hőszigetelés'!I12 -> 0 | D8: =+'Külső hőszigetelés'!J12 -> 0
B9: LAPOSTETŐ HŐSZIGETELÉSE | C9: =+'Külső hőszigetelés'!I17 -> 0 | D9: =+'Külső hőszigetelés'!J17 -> 0
B10: EGYÉB, NEM BESOROLHATÓ | C10: =+'Külső hőszigetelés'!I26 -> 0 | D10: =+'Külső hőszigetelés'!J26 -> 0
A11: NYÍLÁSZÁRÓ CSERE ISKOLA | B11: ABLAK | C11: =+'Nyílászáró csere '!I4 -> 0 | D11: =+'Nyílászáró csere '!J4 -> 0
B12: PÁRKÁNYZAT | C12: =+'Nyílászáró csere '!I33 -> 0 | D12: =+'Nyílászáró csere '!J33 -> 0
B13: ABLAKCSERE JÁRULÉKOS KÖLTSÉGEI | C13: =+'Nyílászáró csere '!I35 -> 0 | D13: =+'Nyílászáró csere '!J35 -> 0
A14: AKADÁLYMENTESÍTÉS | B14: AKADÁLYMENTESÍTÉS | C14: =+Akadálymentesítés!I10 -> 0 | D14: =+Akadálymentesítés!J10 -> 0
A15: NAPELEM | B15: NAPELEM | C15: =+Napelem!I4 -> 0 | D15: =+Napelem!J4 -> 0
A16: Összesen (nettó) | C16: =+SUM(C5:C15) -> 0 | D16: =SUM(D5:D15) -> 0
C17: =+C16+D16 -> 0
A18: 27% Áfa | C18: =+C17*0.27 -> 0
A19: Mindösszesen (bruttó) | C19: =+C18+C17 -> 0

Sheet Külső hőszigetelés
A1: =+[1]Főösszesítő!A1 -> Árpád Fejedelem Általános Iskola 6066 Tiszaalpár, Alkotmány utca 14.
A2: Külső oldali hőszigetelés
A3: T. | B3: Megnevezés | C3: Menny | D3: Me | E3: Anyag | F3: Díj | G3: Össz anyag | H3: Össz díj | I3: ANYAG Ö. | J3: DÍJ ÖSSZES
A4: HOMLOKZATI HŐSZIGETELÉS | I4: =SUM(G5:G7) -> 0 | J4: =SUM(H5:H7) -> 0
A5: 1. | B5: Homlokzati hőszigetelő rendszer 160 mm EPS lemezből tagolatlan falazaton (ragasztó, dübel, üvegszövetháló, alapozó, vékonyvakolat I.színkategória, kiegészítők) | C5: 1634 | D5: m2 | G5: =+C5*E5 -> 0 | H5: =+C5*F5 -> 0
A6: 2. | B6: Lábazati hőszigetelő rendszer 160 mm XPS lemezből tagolatlan falazaton (ragasztó, dübel, üvegszövetháló, alapozó, vékonyvakolat I. színkategória, kiegészítők) | C6: 234 | D6: m2 | G6: =+C6*E6 -> 0 | H6: =+C6*F6 -> 0
A7: 3. | B7: Káva készítés 40 mm EPS lemezből (ragasztó, üvegszövetháló, alapozó, vékonyvakolat I. színkategória, kiegészítők) | C7: 634 | D7: m2 | G7: =+C7*E7 -> 0 | H7: =+C7*F7 -> 0
A8: ÁLLVÁNYZAT | I8: =SUM(G9) -> 0 | J8: =SUM(H9) -> 0
A9: 1. | B9: Homlokzati csőállványok állítása szintenkénti pallóterítéssel, korláttal lábdeszkával, (kétpallós) 0,60 m padlószélességgel, 2,00 kN/m, 12m magasságig | C9: 2600 | D9: m2 | G9: =+C9*E9 -> 0 | H9: =+C9*F9 -> 0
A10: FÖDÉMSZIGETELÉS | I10: =SUM(G11) -> 0 | J10: =SUM(H11) -> 0
A11: 1. | B11: zárófödém utólagos szigetelése 2x100 mm üveggyapot terítéssel | C11: 2450 | D11: m2 | G11: =+C11*E11 -> 0 | H11: =+C11*F11 -> 0
A12: FÖDÉMSZIGETELÉS JÁRULÉKOS KÖLTSÉGE | I12: =SUM(G13:G16) -> 0 | J12: =SUM(H13:H16) -> 0
A13: 1. | B13: padlástér előkészítése, tisztítása (lomtalanítás nélkül!) | C13: 2450 | D13: m2 | G13: =+C13*E13 -> 0 | H13: =+C13*F13 -> 0
A14: 2. | B14: pallóváz építése 10x5 impregnált fenyő pallókból két rétegben, merőleges rendszerben, 60cm rácstávolsággal szegezve | C14: 150 | D14: m2 | G14: =+C14*E14 -> 0 | H14: =+C14*F14 -> 0
A15: 3. | B15: Padlásjárda zárlécvázzal, 60 cm szélességig | C15: 150 | D15: m2 | G15: =+C15*E15 -> 0 | H15: =+C15*F15 -> 0
A16: 4. | B16: 1 réteg párafékező fólia terítése szigetelés alá | C16: 2450 | D16: m2 | G16: =+C16*E16 -> 0 | H16: =+C16*F16 -> 0
A17: LAPOSTETŐ HŐSZIGETELÉSE | I17: =SUM(G18:G25) -> 0 | J17: =SUM(H18:H25) -> 0
A18: 1. | B18: Lapostetőre 2x10 cm, EPS 100 lépésálló expandált polisztirolhab hőszigetelő lemez beépítése mechanikus rögzítéssel (rögzítés külön tételben) | C18: 612 | D18: m2 | G18: =+C18*E18 -> 0 | H18: =+C18*F18 -> 0
A19: 2. | B19: Szigetelendő felület kellősítése, előkészítése, perforálása | C19: 612 | D19: m2 | G19: =+C19*E19 -> 0 | H19: =+C19*F19 -> 0
A20: 3. | B20: Hőszigetelés mechanikus rögzítése EJOT TID-T 255 rögzítőszettel (2db/m2) | C20: 612 | D20: m2 | G20: =+C20*E20 -> 0 | H20: =+C20*F20 -> 0
A21: 4. | B21: 1 rtg. PLASTOBIT PV 4MM T APP modifikált bitumenes lemez fektetése mechanikus rögzítéssel ( rögzítés külön tételben ) | C21: 612 | D21: m2 | G21: =+C21*E21 -> 0 | H21: =+C21*F21 -> 0
A22: 5. | B22: 1 rtg. PLASTOBIT PV 4,5 TOP APP modifikált bitumenes lemez fektetése teljes felületen lángolvasztással | C22: 612 | D22: m2 | G22: =+C22*E22 -> 0 | H22: =+C22*F22 -> 0
A23: 6. | B23: Horganyzott egyvízorros szegély elhelyezése | C23: 15 | D23: fm | G23: =+C23*E23 -> 0 | H23: =+C23*F23 -> 0
A24: 7. | B24: Vízszigetelés mechanikus rögzítése EJOT TID-T 255 rögzítőszettel (4db/m2) | C24: 612 | D24: m2 | G24: =+C24*E24 -> 0 | H24: =+C24*F24 -> 0
A25: 8. | B25: Páraszellőzők beépítése (CURVER) és gallérozása bitumenes szigetelő rendszerrel | C25: 5 | D25: db | G25: =+C25*E25 -> 0 | H25: =+C25*F25 -> 0
A26: EGYÉB, NEM BESOROLHATÓ | I26: =SUM(G27:G37) -> 0 | J26: =SUM(H27:H37) -> 0
A27: 1. | B27: Ereszlefolyó bontása | C27: 480 | D27: fm | G27: =+C27*E27 -> 0 | H27: =+C27*F27 -> 0
A28: 2. | B28: Ereszlefolyó visszaszerelése | C28: 480 | D28: fm | G28: =+C28*E28 -> 0 | H28: =+C28*F28 -> 0
A29: 3. | B29: Homlokzatra felszerelt elemek (táblák, lámpatestek, zászlótartó...stb) leszerelése, hőszigetelt, vakolt felületre újra elhelyezése dübeles csavarrögzítéssel | C29: 11 | D29: db | G29: =+C29*E29 -> 0 | H29: =+C29*F29 -> 0
A30: 4. | B30: Ablakpárkány egyvízorros kialakítása, 35 cm-es kiterített szélességig, legalább 2cm-es vízorrokkal, 3%-os kifelé lejtéssel, fehér porszórt alu, végzárókkal | C30: 321 | D30: fm | G30: =+C30*E30 -> 0 | H30: =+C30*F30 -> 0
A31: 5. | B31: Mobil WC bérlése | C31: 4 | D31: klt | G31: =+C31*E31 -> 0 | H31: =+C31*F31 -> 0
A32: 6. | B32: Építési törmelék és hulladék, valamint csomagolóanyagok, stb. folyamatos gyűjtése, elszállítása hatóságilag engedélyezett hulladéklerakóba, lerakójeggyel együtt. | C32: 98 | D32: m3 | G32: =+C32*E32 -> 0 | H32: =+C32*F32 -> 0
A33: 7. | B33: Acél gáz csövek festése homlokzati hőszigetelésből kialakított nyitott falfülkében vezetve | C33: 47 | D33: fm | G33: =+C33*E33 -> 0 | H33: =+C33*F33 -> 0
A34: 8. | B34: Villámvédelmi rendszer kiépítése, mérés és jegyzőkönyv készítése | C34: 2 | D34: klt | G34: =+C34*E34 -> 0 | H34: =+C34*F34 -> 0
A35: 9. | B35: Vakolat leverés szükséges mennyiségben, javítása | C35: 15 | D35: m2 | G35: =+C35*E35 -> 0 | H35: =+C35*F35 -> 0
A36: 10. | B36: Ragalja javítása | C36: 250 | D36: fm | G36: =+C36*E36 -> 0 | H36: =+C36*F36 -> 0
A37: 11. | B37: Homlokzathoz csatlakozó acél szerkezetű építmények óvatos bontása és deponálása, újjáépítése | C37: 2 | D37: db | G37: =+C37*E37 -> 0 | H37: =+C37*F37 -> 0
A38: Összesen (nettó) | I38: =SUM(I4:I37) -> 0 | J38: =SUM(J4:J37) -> 0
I39: =+I38+J38 -> 0
A40: 27% Áfa | I40: =+I39*0.27 -> 0
A41: Mindösszesen (bruttó) | I41: =+I39+I40 -> 0

Sheet Akadálymentesítés
A7: =+Főösszesítő!A1 -> Árpád Fejedelem Általános Iskola 6066 Tiszaalpár, Alkotmány utca 14.
A8: Akadálymentesítés
A9: T. | B9: Megnevezés | C9: Menny | D9: Me | E9: Anyag | F9: Díj | G9: Össz anyag | H9: Össz díj | I9: ANYAG Ö. | J9: DÍJ ÖSSZES
A10: AKADÁLYMENTESÍTÉS | I10: =SUM(G11:G15) -> 0 | J10: =SUM(H11:H15) -> 0
A11: 1. | B11: Akadálymentes megközelíthetőség biztosítása (mellékelt terv és segédlet szerint vagy azzal egyenértékű megoldással) | C11: 1 | D11: klt | G11: =+C11*E11 -> 0 | H11: =+C11*F11 -> 0
A12: 2. | B12: Belső közlekedési útvonal biztosítása (mellékelt terv és segédlet szerint vagy azzal egyenértékű megoldással) | C12: 1 | D12: klt | G12: =+C12*E12 -> 0 | H12: =+C12*F12 -> 0
A13: 3. | B13: Akadálymentes illemhely kialakítása (mellékelt terv és segédlet szerint vagy azzal egyenértékű megoldással) | C13: 1 | D13: klt | G13: =+C13*E13 -> 0 | H13: =+C13*F13 -> 0
A14: 4. | B14: Indukciós hurok telepítése (mobil) | C14: 1 | D14: klt | G14: =+C14*E14 -> 0 | H14: =+C14*F14 -> 0
A15: 5. | B15: Egyéb járulékos költségek | C15: 1 | D15: klt | G15: =+C15*E15 -> 0 | H15: =+C15*F15 -> 0
A16: Összesen (nettó) | I16: =SUM(I10:I15) -> 0 | J16: =SUM(J10:J15) -> 0
I17: =+I16+J16 -> 0
A18: 27% Áfa | I18: =+I17*0.27 -> 0
A19: Mindösszesen (bruttó) | I19: =+I17+I18 -> 0

Sheet Tervek
A1: Hercegszántó Polgármesteri Hivatal (Dózsa Gy. u. 8.) | N1: =OR(A1<>"",B1<>"",I1<>"") -> TRUE
A2: Tervezési költségek | N2: =OR(A2<>"",B2<>"",I2<>"") -> TRUE
A3: T. | B3: Megnevezés | C3: Menny | D3: Me | E3: Anyag | F3: Díj | G3: Össz anyag | H3: Össz díj | I3: ANYAG Ö. | J3: DÍJ ÖSSZES | K3: szorzó | L3: =VLOOKUP(M3,Főösszesítő!#REF!,2,FALSE) -> #REF! | M3: =TRIM(UPPER(RIGHT(CELL("filenév",A1),LEN(CELL("filenév",A1))-SEARCH("]",CELL("filenév",A1))))) -> TERVEK | N3: =OR(A3<>"",B3<>"",I3<>"") -> TRUE
A4: TERVEK | I4: =SUM(G5:G6) -> #REF! | J4: =SUM(H5:H6) -> 0 | K4: EREDETI ANYAG | L4: EREDETI DÍJ | N4: =OR(A4<>"",B4<>"",I4<>"") -> #REF!
A5: 1. | B5: Kazánház fűtésének kiviteli terve. | C5: 0 | D5: klt | E5: =ROUND(K5*$L$3,0) -> #REF! | F5: 0 | G5: =+C5*E5 -> #REF! | H5: =+C5*F5 -> 0 | K5: 0 | L5: 218000 | M5: 1 | N5: =OR(A5<>"",B5<>"",I5<>"") -> TRUE
A6: 2. | B6: Kazánház gázellátásának terve a gázszolgáltató által jóváhagyatva. | C6: 0 | D6: klt | E6: =ROUND(K6*$L$3,0) -> #REF! | F6: 0 | G6: =+C6*E6 -> #REF! | H6: =+C6*F6 -> 0 | K6: 0 | L6: 381500 | M6: 1 | N6: =OR(A6<>"",B6<>"",I6<>"") -> TRUE
A7: Összesen (nettó) | I7: =SUM(I4:I6) -> #REF! | J7: =SUM(J4:J6) -> 0 | N7: =OR(A7<>"",B7<>"",I7<>"") -> #REF!
I8: =+I7+J7 -> #REF! | N8: =OR(A8<>"",B8<>"",I8<>"") -> #REF!
A9: 27% Áfa | I9: =+I8*0.27 -> #REF! | N9: =OR(A9<>"",B9<>"",I9<>"") -> #REF!
A10: Mindösszesen (bruttó) | I10: =+I8+I9 -> #REF! | N10: =OR(A10<>"",B10<>"",I10<>"") -> #REF!

Sheet Nyílászáró csere 
A1: =+Főösszesítő!A1 -> Árpád Fejedelem Általános Iskola 6066 Tiszaalpár, Alkotmány utca 14.
A2: Nyílászáró csere
A3: T. | B3: Megnevezés | C3: Menny | D3: Me | E3: Anyag | F3: Díj | G3: Össz anyag | H3: Össz díj | I3: ANYAG Ö. | J3: DÍJ Ö.
A4: ABLAK | I4: =SUM(G5:G32) -> 0 | J4: =SUM(H5:H32) -> 0
A5: 1. | B5: Fa kifelé nyíló bejárati ajtó, felújítása, szükséges javításokkal és üvegezés cserével, két oldali mázolással. (É-i homl.) AJ-01 | C5: 1 | D5: db | G5: =+C5*E5 -> 0 | H5: =+C5*F5 -> 0
A6: 2. | B6: Műanyag sorolt szerkezet, 2100 x 2200 mm a tetején és a két oldalán 25 mm-es tokpótlóval, mely áll 3 db egymás mellé sorolt alul 700x1500 mm-es bukó-nyíló, felül 700x700 mm-es nyíló szerkezetből Uw<1,15 W/m2K. (É-i homl.) AB-01 | C6: 25 | D6: db | G6: =+C6*E6 -> 0 | H6: =+C6*F6 -> 0
A7: 3. | B7: Műanyag sorolt szerkezet, 2500 x 2900 mm a tetején és a két oldalán 25 mm-es tokpótlóval, mely áll 2 db egymás mellé sorolt alul tokosztott 1250x2100 mm-es fix üvegezésű, felül 1250x800 mm-es fix üvegezésű szerkezetből Uw<1,15 W/m2K. (É-i homl.) AB-02 | C7: 2 | D7: db | G7: =+C7*E7 -> 0 | H7: =+C7*F7 -> 0
A8: 4. | B8: Műanyag sorolt szerkezet, 2500 x 2900 mm a tetején és a két oldalán 25 mm-es tokpótlóval, mely áll 2 db egymás mellé sorolt alul tokosztott 1250x2100 mm-es tömör betétes, felül 1250x800 mm-es tömör betétes szerkezetből Uw<1,15 W/m2K. (É-i homl.) AB-03 | C8: 1 | D8: db | G8: =+C8*E8 -> 0 | H8: =+C8*F8 -> 0
A9: 5. | B9: Műanyag sorolt szerkezet, 2500 x 2900 mm a tetején és a két oldalán 25 mm-es tokpótlóval, mely áll 2 db egymás mellé sorolt, bal oldalt alul középen felnyíló kifele nyíló 1650x2100 mm-es ajtóból, felette 1650x800 mm-es fix üvegezésű felülvilágítóból, jobb oldalt 850x2900 mm-es fix üvegezésű szerkezetből Uw<1,15 W/m2K. (É-i homl.) AJ-02 | C9: 2 | D9: db | G9: =+C9*E9 -> 0 | H9: =+C9*F9 -> 0
A10: 6. | B10: Műanyag bukó-nyíló ablak, 1000 x 1000 mm a tetején és a két oldalán 25 mm-es tokpótlóval, Uw<1,15 W/m2K. (K-i homl.) AB-04 | C10: 1 | D10: db | G10: =+C10*E10 -> 0 | H10: =+C10*F10 -> 0
A11: 7. | B11: Műanyag bukó-nyíló ablak, 1200 x 1500 mm a tetején és a két oldalán 25 mm-es tokpótlóval, Uw<1,15 W/m2K. (K-i homl.) AB-05 | C11: 2 | D11: db | G11: =+C11*E11 -> 0 | H11: =+C11*F11 -> 0
A12: 8. | B12: Műanyag osztott szerkezet, 1200 x 1800 mm a tetején és a két oldalán 25 mm-es tokpótlóval, mely áll alul 1200x1200 mm-es bukó-nyíló, felül 1200x600 mm-es fix üvegezésű szerkezetből Uw<1,15 W/m2K. (K-i homl.) AB-06 | C12: 3 | D12: db | G12: =+C12*E12 -> 0 | H12: =+C12*F12 -> 0
A13: 9. | B13: Műanyag sorolt szerkezet, 3000 x 2800 mm a tetején és a két oldalán 25 mm-es tokpótlóval, mely áll 3 db egymás mellé sorolt alul 1000x900 mm-es tömör betétes, középen 1000x1200 mm-es bukó-nyíló, felül 1000x700 mm-es fix üvegezésű szerkezetből Uw<1,15 W/m2K. (K-i homl.) AB-07 | C13: 2 | D13: db | G13: =+C13*E13 -> 0 | H13: =+C13*F13 -> 0
A14: 10. | B14: Műanyag sorolt szerkezet, 3000 x 900 mm a tetején és a két oldalán 25 mm-es tokpótlóval, mely áll 3 db egymás mellé sorolt 1000x900 mm-es fix üvegezésű szerkezetből Uw<1,15 W/m2K. (K-i homl.) AB-08 | C14: 1 | D14: db | G14: =+C14*E14 -> 0 | H14: =+C14*F14 -> 0
A15: 11. | B15: Műanyag sorolt szerkezet, 3000 x 2800 mm a tetején és a két oldalán 25 mm-es tokpótlóval, mely áll 3 db egymás mellé sorolt alul 1000x900 mm-es tömör betétes, középen 1000x1200 mm-es bukó-nyíló, felül 1000x700 mm-es fix üvegezésű szerkezetből Uw<1,15 W/m2K. (K-i homl.) AB-09 | C15: 1 | D15: db | G15: =+C15*E15 -> 0 | H15: =+C15*F15 -> 0
A16: 12. | B16: Műanyag sorolt szerkezet, 3000 x 2200 mm a tetején és a két oldalán 25 mm-es tokpótlóval, mely áll 3 db egymás mellé sorolt két oldalt 600x2200 mm-es 1 vízszintes tokosztással szerelt fix üvegezésű oldalvilágító, középen 1800x2200 mm-es középen felnyíló kifele nyíló ajtószerkezetből Uw<1,15 W/m2K. (K-i homl.) AJ-03 | C16: 1 | D16: db | G16: =+C16*E16 -> 0 | H16: =+C16*F16 -> 0
... A32: 28. | B32: Műanyag sorolt szerkezet, 1600 x 2400 mm a tetején és a két oldalán 25 mm-es tokpótlóval, mely áll 2 db egymás mellé sorolt alul 800x900 mm-es fix üvegezésű, felül 800x1500 mm-es bukó-nyíló szerkezetből Uw<1,15 W/m2K. (NY-i homl.) AB-20 | C32: 2 | D32: db | G32: =+C32*E32 -> 0 | H32: =+C32*F32 -> 0
A33: PÁRKÁNYZAT | I33: =SUM(G34) -> 0 | J33: =SUM(H34) -> 0
A34: 1. | B34: Könyöklők elhelyezése végzáróval 200 mm szélességben | C34: 305 | D34: fm | G34: =+C34*E34 -> 0 | H34: =+C34*F34 -> 0
A35: ABLAKCSERE JÁRULÉKOS KÖLTSÉGEI | I35: =SUM(G36:G40) -> 0 | J35: =SUM(H36:H40) -> 0
A36: 1. | B36: Fa nyílászáró szerkezetek bontása | C36: 287 | D36: m2 | G36: =+C36*E36 -> 0 | H36: =+C36*F36 -> 0
A37: 2. | B37: Fém nyílászárók bontása | C37: 155 | D37: m2 | G37: =+C37*E37 -> 0 | H37: =+C37*F37 -> 0
A38: 3. | B38: Nyílászárók beépítése | C38: 442 | D38: m2 | G38: =+C38*E38 -> 0 | H38: =+C38*F38 -> 0
A39: 4. | B39: Nyílászárók cseréjét követő belső oldali gipszkarton dobozolási javítási munkálatok, élvédőkkel, glettelésel, 2 x fehér diszperzió festéssel 15-30 cm szélességben | C39: 471 | D39: fm | G39: =+C39*E39 -> 0 | H39: =+C39*F39 -> 0
A40: 5. | B40: Takarólécek elhelyezése a szerkezetek belső oldalán, (7 cm ) | C40: 871 | D40: fm | G40: =+C40*E40 -> 0 | H40: =+C40*F40 -> 0
A41: Összesen (nettó) | I41: =SUM(I4:I40) -> 0 | J41: =SUM(J4:J40) -> 0
I42: =+I41+J41 -> 0
A43: 27% Áfa | I43: =+I42*0.27 -> 0
A44: Mindösszesen (bruttó) | I44: =+I42+I43 -> 0

Sheet Napelem
A1: =+[2]Főösszesítő!A1 -> Árpád Fejedelem Általános Iskola 6066 Tiszaalpár, Alkotmány utca 14.
A2: Napelemes rendszer
A3: T. | B3: Megnevezés | C3: Menny. | D3: ME. | E3: Anyag | F3: Díj | G3: Össz.anyag | H3: Össz.díj | I3: ANYAG Ö. | J3: DÍJ Ö.
A4: NAPELEM | I4: =SUM(G5:G9) -> 0 | J4: =SUM(H5:H9) -> 0
A5: 1 | B5: Napelem modulok beszerzése és telepítése, legfeljebb 19,24 kWp beépített csúcsteljesítményű, polikristályos techcnológiájú napelem modulokkal, | C5: 1 | D5: klt | G5: =+C5*E5 -> 0 | H5: =+C5*F5 -> 0
A6: 2 | B6: Tartószerkezet beszerzése és szerelése | C6: 1 | D6: klt | G6: =+C6*E6 -> 0 | H6: =+C6*F6 -> 0
A7: 3 | B7: 20 kVA AC teljesítménynek megfelelő inverter beszerzése, szerelése, felprogramozása | C7: 1 | D7: klt | G7: =+C7*E7 -> 0 | H7: =+C7*F7 -> 0
A8: 4 | B8: DC és AC kábelezés és egyéb szerelési anyagok kompletten, DC és AC kábelezés, hálózatra csatlakozás költségei, egyéb szerelés munkadíjjal | C8: 1 | D8: klt | G8: =+C8*E8 -> 0 | H8: =+C8*F8 -> 0
A9: 5 | B9: Módosított engedélyezési és megvalósítási dokumentáció, Egyéb dokumentáció (Érintés védelmi jegyzőkönyv, villámvédelmi jegyzőkönyv stb.) | C9: 1 | D9: klt | G9: =+C9*E9 -> 0 | H9: =+C9*F9 -> 0
A10: Összesen nettó | I10: =SUM(I4:I9) -> 0 | J10: =SUM(J4:J9) -> 0
I11: =SUM(I10:J10) -> 0
A12: 27% ÁFA | I12: =ROUND(I11*0.27,0) -> 0
A13: Mindösszesen bruttó | I13: =+SUM(I11:J12) -> 0
